BEGIN:VCALENDAR
VERSION:2.0
PRODID:-//Ysgol Gyfun Gymraeg Llangynwyd - ECPv6.8.2.1//NONSGML v1.0//EN
CALSCALE:GREGORIAN
METHOD:PUBLISH
X-ORIGINAL-URL:https://www.yggllangynwyd.cymru/en
X-WR-CALDESC:Events for Ysgol Gyfun Gymraeg Llangynwyd
REFRESH-INTERVAL;VALUE=DURATION:PT1H
X-Robots-Tag:noindex
X-PUBLISHED-TTL:PT1H
BEGIN:VTIMEZONE
TZID:Europe/London
BEGIN:DAYLIGHT
TZOFFSETFROM:+0000
TZOFFSETTO:+0100
TZNAME:BST
DTSTART:20260329T010000
END:DAYLIGHT
BEGIN:STANDARD
TZOFFSETFROM:+0100
TZOFFSETTO:+0000
TZNAME:GMT
DTSTART:20261025T010000
END:STANDARD
BEGIN:DAYLIGHT
TZOFFSETFROM:+0000
TZOFFSETTO:+0100
TZNAME:BST
DTSTART:20270328T010000
END:DAYLIGHT
BEGIN:STANDARD
TZOFFSETFROM:+0100
TZOFFSETTO:+0000
TZNAME:GMT
DTSTART:20271031T010000
END:STANDARD
END:VTIMEZONE
BEGIN:VEVENT
DTSTART;VALUE=DATE:20260112
DTEND;VALUE=DATE:20270124
DTSTAMP:20260420T090646
CREATED:20250709T113318Z
LAST-MODIFIED:20250709T131637Z
UID:3239-1768176000-1800748799@www.yggllangynwyd.cymru
SUMMARY:[:cy]Ffug Asesiadau CA5[:en]Mock Assessments KS5[:]
DESCRIPTION:Further information to follow
URL:https://www.yggllangynwyd.cymru/en/digwyddiad/ffug-asesiadau-ca5/
CATEGORIES:Blwyddyn 12/13,Blwyddyn 13
END:VEVENT
BEGIN:VEVENT
DTSTART;VALUE=DATE:20260702
DTEND;VALUE=DATE:20260703
DTSTAMP:20260420T090646
CREATED:20250709T124747Z
LAST-MODIFIED:20250709T124747Z
UID:3263-1782950400-1783036799@www.yggllangynwyd.cymru
SUMMARY:[:cy]Pontio Bl 6[:en]Year 6 Transition[:]
DESCRIPTION:Further information to follow
URL:https://www.yggllangynwyd.cymru/en/digwyddiad/pontio-bl-6-3/
CATEGORIES:Ysgol Gyfan/Whole School
END:VEVENT
BEGIN:VEVENT
DTSTART;VALUE=DATE:20260706
DTEND;VALUE=DATE:20260707
DTSTAMP:20260420T090646
CREATED:20250709T124851Z
LAST-MODIFIED:20250709T124851Z
UID:3265-1783296000-1783382399@www.yggllangynwyd.cymru
SUMMARY:[:cy]Eisteddfod Ysgol[:en]School Eisteddfod[:]
DESCRIPTION:Further information to follow
URL:https://www.yggllangynwyd.cymru/en/digwyddiad/eisteddfod-ysgol/
CATEGORIES:Ysgol Gyfan/Whole School
END:VEVENT
BEGIN:VEVENT
DTSTART;VALUE=DATE:20260708
DTEND;VALUE=DATE:20260709
DTSTAMP:20260420T090646
CREATED:20250709T125001Z
LAST-MODIFIED:20250709T125001Z
UID:3267-1783468800-1783555199@www.yggllangynwyd.cymru
SUMMARY:[:cy]Mabolgampau[:en]Sports Day[:]
DESCRIPTION:Further information to follow
URL:https://www.yggllangynwyd.cymru/en/digwyddiad/mabolgampau/
CATEGORIES:Ysgol Gyfan/Whole School
END:VEVENT
BEGIN:VEVENT
DTSTART;VALUE=DATE:20260716
DTEND;VALUE=DATE:20260717
DTSTAMP:20260420T090646
CREATED:20250709T125103Z
LAST-MODIFIED:20250709T125103Z
UID:3269-1784160000-1784246399@www.yggllangynwyd.cymru
SUMMARY:[:cy]Diwrnod Teithiau Haf[:en]School Summer Trip[:]
DESCRIPTION:Further information to follow
URL:https://www.yggllangynwyd.cymru/en/digwyddiad/diwrnod-teithiau-haf/
CATEGORIES:Ysgol Gyfan/Whole School
END:VEVENT
BEGIN:VEVENT
DTSTART;VALUE=DATE:20260720
DTEND;VALUE=DATE:20260721
DTSTAMP:20260420T090646
CREATED:20250709T124019Z
LAST-MODIFIED:20250709T132048Z
UID:3253-1784505600-1784591999@www.yggllangynwyd.cymru
SUMMARY:[:cy]Diwrnod HMS[:en]INSET DAY[:]
DESCRIPTION:School will be closed to learners
URL:https://www.yggllangynwyd.cymru/en/digwyddiad/diwrnod-hms-4/
CATEGORIES:Ysgol Gyfan/Whole School
END:VEVENT
BEGIN:VEVENT
DTSTART;VALUE=DATE:20260720
DTEND;VALUE=DATE:20260721
DTSTAMP:20260420T090646
CREATED:20250709T125217Z
LAST-MODIFIED:20250709T125217Z
UID:3271-1784505600-1784591999@www.yggllangynwyd.cymru
SUMMARY:[:cy]Diwrnod HMS[:en]Inset Day[:]
DESCRIPTION:School will be closed to learners
URL:https://www.yggllangynwyd.cymru/en/digwyddiad/diwrnod-hms-6/
CATEGORIES:Ysgol Gyfan/Whole School
END:VEVENT
END:VCALENDAR