BEGIN:VCALENDAR
VERSION:2.0
PRODID:-//Ysgol Gyfun Gymraeg Llangynwyd - ECPv6.8.2.1//NONSGML v1.0//EN
CALSCALE:GREGORIAN
METHOD:PUBLISH
X-ORIGINAL-URL:https://www.yggllangynwyd.cymru/en
X-WR-CALDESC:Events for Ysgol Gyfun Gymraeg Llangynwyd
REFRESH-INTERVAL;VALUE=DURATION:PT1H
X-Robots-Tag:noindex
X-PUBLISHED-TTL:PT1H
BEGIN:VTIMEZONE
TZID:Europe/London
BEGIN:DAYLIGHT
TZOFFSETFROM:+0000
TZOFFSETTO:+0100
TZNAME:BST
DTSTART:20250330T010000
END:DAYLIGHT
BEGIN:STANDARD
TZOFFSETFROM:+0100
TZOFFSETTO:+0000
TZNAME:GMT
DTSTART:20251026T010000
END:STANDARD
END:VTIMEZONE
BEGIN:VEVENT
DTSTART;VALUE=DATE:20250814
DTEND;VALUE=DATE:20250815
DTSTAMP:20260420T192255
CREATED:20250709T104126Z
LAST-MODIFIED:20250709T104126Z
UID:3187-1755129600-1755215999@www.yggllangynwyd.cymru
SUMMARY:[:cy]Canlyniadau Lefel A[:en]A-Level results Day[:]
DESCRIPTION:Diwrnod Canlyniadau 2025 Results Day 2025
URL:https://www.yggllangynwyd.cymru/en/digwyddiad/canlyniadau-lefel-a/
CATEGORIES:Blwyddyn 12/13,Blwyddyn 13
END:VEVENT
BEGIN:VEVENT
DTSTART;VALUE=DATE:20250821
DTEND;VALUE=DATE:20250822
DTSTAMP:20260420T192255
CREATED:20250709T104220Z
LAST-MODIFIED:20250709T104220Z
UID:3190-1755734400-1755820799@www.yggllangynwyd.cymru
SUMMARY:[:cy]Canlyniadau TGAU[:en]GCSE Results[:]
DESCRIPTION:Diwrnod Canlyniadau 2025 Results Day 2025
URL:https://www.yggllangynwyd.cymru/en/digwyddiad/canlyniadau-tgau/
CATEGORIES:Blwyddyn 10,Blwyddyn 11
END:VEVENT
END:VCALENDAR