BEGIN:VCALENDAR
VERSION:2.0
PRODID:-//Ysgol Gyfun Gymraeg Llangynwyd - ECPv6.8.2.1//NONSGML v1.0//EN
CALSCALE:GREGORIAN
METHOD:PUBLISH
X-WR-CALNAME:Ysgol Gyfun Gymraeg Llangynwyd
X-ORIGINAL-URL:https://www.yggllangynwyd.cymru/en
X-WR-CALDESC:Events for Ysgol Gyfun Gymraeg Llangynwyd
REFRESH-INTERVAL;VALUE=DURATION:PT1H
X-Robots-Tag:noindex
X-PUBLISHED-TTL:PT1H
BEGIN:VTIMEZONE
TZID:Europe/London
BEGIN:DAYLIGHT
TZOFFSETFROM:+0000
TZOFFSETTO:+0100
TZNAME:BST
DTSTART:20250330T010000
END:DAYLIGHT
BEGIN:STANDARD
TZOFFSETFROM:+0100
TZOFFSETTO:+0000
TZNAME:GMT
DTSTART:20251026T010000
END:STANDARD
END:VTIMEZONE
BEGIN:VEVENT
DTSTART;VALUE=DATE:20251002
DTEND;VALUE=DATE:20251003
DTSTAMP:20260420T174119
CREATED:20250709T105445Z
LAST-MODIFIED:20250709T105445Z
UID:3203-1759363200-1759449599@www.yggllangynwyd.cymru
SUMMARY:[:cy]Pontio Bl 6[:en]Yr 6 Transition[:]
DESCRIPTION:
URL:https://www.yggllangynwyd.cymru/en/digwyddiad/pontio-bl-6/
END:VEVENT
BEGIN:VEVENT
DTSTART;TZID=Europe/London:20251002T153000
DTEND;TZID=Europe/London:20251002T190000
DTSTAMP:20260420T174119
CREATED:20250709T105534Z
LAST-MODIFIED:20250709T105534Z
UID:3205-1759419000-1759431600@www.yggllangynwyd.cymru
SUMMARY:[:cy]Noson Agored Blwyddyn 6[:en]Year 6 Open Evening[:]
DESCRIPTION:
URL:https://www.yggllangynwyd.cymru/en/digwyddiad/noson-agored-blwyddyn-6/
END:VEVENT
END:VCALENDAR