BEGIN:VCALENDAR
VERSION:2.0
PRODID:-//Ysgol Gyfun Gymraeg Llangynwyd - ECPv6.8.2.1//NONSGML v1.0//EN
CALSCALE:GREGORIAN
METHOD:PUBLISH
X-WR-CALNAME:Ysgol Gyfun Gymraeg Llangynwyd
X-ORIGINAL-URL:https://www.yggllangynwyd.cymru/en
X-WR-CALDESC:Events for Ysgol Gyfun Gymraeg Llangynwyd
REFRESH-INTERVAL;VALUE=DURATION:PT1H
X-Robots-Tag:noindex
X-PUBLISHED-TTL:PT1H
BEGIN:VTIMEZONE
TZID:Europe/London
BEGIN:DAYLIGHT
TZOFFSETFROM:+0000
TZOFFSETTO:+0100
TZNAME:BST
DTSTART:20240331T010000
END:DAYLIGHT
BEGIN:STANDARD
TZOFFSETFROM:+0100
TZOFFSETTO:+0000
TZNAME:GMT
DTSTART:20241027T010000
END:STANDARD
END:VTIMEZONE
BEGIN:VEVENT
DTSTART;TZID=Europe/London:20241017T151500
DTEND;TZID=Europe/London:20241017T173000
DTSTAMP:20260421T223400
CREATED:20241007T103209Z
LAST-MODIFIED:20241007T104402Z
UID:2854-1729178100-1729186200@www.yggllangynwyd.cymru
SUMMARY:[:cy]Noson Rhieni Bl 11 (Rhithiol)[:en]Year 11 (Virtual) Parents Evening[:]
DESCRIPTION:Further information to follow.
URL:https://www.yggllangynwyd.cymru/en/digwyddiad/noson-rhieni-bl-11-rhithiol/
CATEGORIES:Blwyddyn 11
END:VEVENT
END:VCALENDAR