BEGIN:VCALENDAR
VERSION:2.0
PRODID:-//Ysgol Gyfun Gymraeg Llangynwyd - ECPv6.8.2.1//NONSGML v1.0//EN
CALSCALE:GREGORIAN
METHOD:PUBLISH
X-ORIGINAL-URL:https://www.yggllangynwyd.cymru
X-WR-CALDESC:Events for Ysgol Gyfun Gymraeg Llangynwyd
REFRESH-INTERVAL;VALUE=DURATION:PT1H
X-Robots-Tag:noindex
X-PUBLISHED-TTL:PT1H
BEGIN:VTIMEZONE
TZID:Europe/London
BEGIN:DAYLIGHT
TZOFFSETFROM:+0000
TZOFFSETTO:+0100
TZNAME:BST
DTSTART:20250330T010000
END:DAYLIGHT
BEGIN:STANDARD
TZOFFSETFROM:+0100
TZOFFSETTO:+0000
TZNAME:GMT
DTSTART:20251026T010000
END:STANDARD
END:VTIMEZONE
BEGIN:VEVENT
DTSTART;VALUE=DATE:20250901
DTEND;VALUE=DATE:20250902
DTSTAMP:20260420T183240
CREATED:20250709T103250Z
LAST-MODIFIED:20250709T103600Z
UID:3175-1756684800-1756771199@www.yggllangynwyd.cymru
SUMMARY:[:cy]Diwrnod HMS[:en]INSET Day[:]
DESCRIPTION:Ysgol ar gau i ddysgwyr
URL:https://www.yggllangynwyd.cymru/digwyddiad/diwrnod-hms-2/
CATEGORIES:Ysgol Gyfan/Whole School
END:VEVENT
BEGIN:VEVENT
DTSTART;VALUE=DATE:20250902
DTEND;VALUE=DATE:20250903
DTSTAMP:20260420T183240
CREATED:20250709T103323Z
LAST-MODIFIED:20250709T103355Z
UID:3177-1756771200-1756857599@www.yggllangynwyd.cymru
SUMMARY:[:cy]Diwrnod HMS[:en]Inset Day[:]
DESCRIPTION:Ysgol ar gau i ddysgwyr
URL:https://www.yggllangynwyd.cymru/digwyddiad/diwrnod-hms-3/
CATEGORIES:Ysgol Gyfan/Whole School
END:VEVENT
BEGIN:VEVENT
DTSTART;VALUE=DATE:20250903
DTEND;VALUE=DATE:20250904
DTSTAMP:20260420T183240
CREATED:20250709T103736Z
LAST-MODIFIED:20250709T103736Z
UID:3181-1756857600-1756943999@www.yggllangynwyd.cymru
SUMMARY:[:cy]Croeso  i 2025-2026[:en]Welcome to 2025-2026[:]
DESCRIPTION:Blynyddoedd 7 – 11 i ddychwelyd heddiw.
URL:https://www.yggllangynwyd.cymru/digwyddiad/croeso-i-2025-2026/
CATEGORIES:Blwyddyn 10,Blwyddyn 11,Blwyddyn 7,Blwyddyn 8,Blwyddyn 9
END:VEVENT
BEGIN:VEVENT
DTSTART;VALUE=DATE:20250904
DTEND;VALUE=DATE:20250905
DTSTAMP:20260420T183240
CREATED:20250709T103827Z
LAST-MODIFIED:20250709T104354Z
UID:3183-1756944000-1757030399@www.yggllangynwyd.cymru
SUMMARY:[:cy]Croeso i 2025-2026 Bl 12[:en]Welcome to 2025-2026 Yr 12[:]
DESCRIPTION:Blwyddyn 12 i ddechrau heddiw.
URL:https://www.yggllangynwyd.cymru/digwyddiad/croeso-i-2025-2026-2/
CATEGORIES:Blwyddyn 12/13
END:VEVENT
BEGIN:VEVENT
DTSTART;VALUE=DATE:20250905
DTEND;VALUE=DATE:20250906
DTSTAMP:20260420T183240
CREATED:20250709T103931Z
LAST-MODIFIED:20250709T103931Z
UID:3185-1757030400-1757116799@www.yggllangynwyd.cymru
SUMMARY:[:cy]Croeso i 2025-2026 BL13[:en]Welcome to 2025-2026 Year 13[:]
DESCRIPTION:Blwyddyn 13 i ddychwelyd i’r ysgol
URL:https://www.yggllangynwyd.cymru/digwyddiad/croeso-i-2025-2026-bl13/
CATEGORIES:Blwyddyn 12/13,Blwyddyn 13
END:VEVENT
BEGIN:VEVENT
DTSTART;VALUE=DATE:20250911
DTEND;VALUE=DATE:20250912
DTSTAMP:20260420T183240
CREATED:20250709T104514Z
LAST-MODIFIED:20250709T104514Z
UID:3193-1757548800-1757635199@www.yggllangynwyd.cymru
SUMMARY:[:cy]Lluniau Bl 7 & 12[:en]Photo Day Years 7 & 12[:]
DESCRIPTION:
URL:https://www.yggllangynwyd.cymru/digwyddiad/lluniau-bl-7-12/
CATEGORIES:Blwyddyn 12/13,Blwyddyn 7
END:VEVENT
BEGIN:VEVENT
DTSTART;VALUE=DATE:20250916
DTEND;VALUE=DATE:20250917
DTSTAMP:20260420T183240
CREATED:20250709T104708Z
LAST-MODIFIED:20250709T104708Z
UID:3195-1757980800-1758067199@www.yggllangynwyd.cymru
SUMMARY:[:cy]Ras Cofio KYAN[:en]Kyan Memorial Race[:]
DESCRIPTION:Ras codi arian i gofio am gyn-ddysgwr.
URL:https://www.yggllangynwyd.cymru/digwyddiad/ras-cofio-kyan/
CATEGORIES:Ysgol Gyfan/Whole School
END:VEVENT
BEGIN:VEVENT
DTSTART;VALUE=DATE:20250924
DTEND;VALUE=DATE:20250927
DTSTAMP:20260420T183240
CREATED:20250709T105119Z
LAST-MODIFIED:20250709T105907Z
UID:3197-1758672000-1758931199@www.yggllangynwyd.cymru
SUMMARY:[:cy]Taith Glanllyn[:en]Glanllyn Trip[:]
DESCRIPTION:
URL:https://www.yggllangynwyd.cymru/digwyddiad/taith-glanllyn-2/
CATEGORIES:Blwyddyn 9
END:VEVENT
BEGIN:VEVENT
DTSTART;VALUE=DATE:20250924
DTEND;VALUE=DATE:20250925
DTSTAMP:20260420T183240
CREATED:20250709T105206Z
LAST-MODIFIED:20250709T105206Z
UID:3199-1758672000-1758758399@www.yggllangynwyd.cymru
SUMMARY:[:cy]Diwrnod Heriau 1[:en]Challenge Day 1[:]
DESCRIPTION:
URL:https://www.yggllangynwyd.cymru/digwyddiad/diwrnod-heriau-1/
CATEGORIES:Ysgol Gyfan/Whole School
END:VEVENT
BEGIN:VEVENT
DTSTART;VALUE=DATE:20250926
DTEND;VALUE=DATE:20250927
DTSTAMP:20260420T183240
CREATED:20250709T105350Z
LAST-MODIFIED:20250709T105350Z
UID:3201-1758844800-1758931199@www.yggllangynwyd.cymru
SUMMARY:[:cy]Taith Anwytho bl 7[:en]Year 7 Induction Trip[:]
DESCRIPTION:
URL:https://www.yggllangynwyd.cymru/digwyddiad/taith-anwytho-bl-7/
CATEGORIES:Blwyddyn 7
END:VEVENT
END:VCALENDAR