BEGIN:VCALENDAR
VERSION:2.0
PRODID:-//Ysgol Gyfun Gymraeg Llangynwyd - ECPv6.8.2.1//NONSGML v1.0//EN
CALSCALE:GREGORIAN
METHOD:PUBLISH
X-WR-CALNAME:Ysgol Gyfun Gymraeg Llangynwyd
X-ORIGINAL-URL:https://www.yggllangynwyd.cymru
X-WR-CALDESC:Events for Ysgol Gyfun Gymraeg Llangynwyd
REFRESH-INTERVAL;VALUE=DURATION:PT1H
X-Robots-Tag:noindex
X-PUBLISHED-TTL:PT1H
BEGIN:VTIMEZONE
TZID:Europe/London
BEGIN:DAYLIGHT
TZOFFSETFROM:+0000
TZOFFSETTO:+0100
TZNAME:BST
DTSTART:20250330T010000
END:DAYLIGHT
BEGIN:STANDARD
TZOFFSETFROM:+0100
TZOFFSETTO:+0000
TZNAME:GMT
DTSTART:20251026T010000
END:STANDARD
END:VTIMEZONE
BEGIN:VEVENT
DTSTART;TZID=Europe/London:20250623T090000
DTEND;TZID=Europe/London:20250623T150000
DTSTAMP:20260421T042530
CREATED:20250606T083915Z
LAST-MODIFIED:20250606T083915Z
UID:3155-1750669200-1750690800@www.yggllangynwyd.cymru
SUMMARY:[:cy]Taith Bl9 i Sain Ffagan - 23/06/2025[:en]Yr 9 Trip to Saint Fagan's 23/06/2025[:]
DESCRIPTION:Cliciwch ar y linc am rhagor o fanylion. \nTaith i Sain Ffagan 2025
URL:https://www.yggllangynwyd.cymru/digwyddiad/taith-bl9-i-sain-ffagan-23-06-2025/
CATEGORIES:Blwyddyn 9
END:VEVENT
END:VCALENDAR