BEGIN:VCALENDAR
VERSION:2.0
PRODID:-//Ysgol Gyfun Gymraeg Llangynwyd - ECPv6.8.2.1//NONSGML v1.0//EN
CALSCALE:GREGORIAN
METHOD:PUBLISH
X-WR-CALNAME:Ysgol Gyfun Gymraeg Llangynwyd
X-ORIGINAL-URL:https://www.yggllangynwyd.cymru/en
X-WR-CALDESC:Events for Ysgol Gyfun Gymraeg Llangynwyd
REFRESH-INTERVAL;VALUE=DURATION:PT1H
X-Robots-Tag:noindex
X-PUBLISHED-TTL:PT1H
BEGIN:VTIMEZONE
TZID:Europe/London
BEGIN:DAYLIGHT
TZOFFSETFROM:+0000
TZOFFSETTO:+0100
TZNAME:BST
DTSTART:20240331T010000
END:DAYLIGHT
BEGIN:STANDARD
TZOFFSETFROM:+0100
TZOFFSETTO:+0000
TZNAME:GMT
DTSTART:20241027T010000
END:STANDARD
END:VTIMEZONE
BEGIN:VEVENT
DTSTART;TZID=Europe/London:20241114T151500
DTEND;TZID=Europe/London:20241114T173000
DTSTAMP:20260421T191707
CREATED:20241007T103422Z
LAST-MODIFIED:20241007T104501Z
UID:2856-1731597300-1731605400@www.yggllangynwyd.cymru
SUMMARY:[:cy]Noson Agored ôl 16[:en]Post 16 Open Evening[:]
DESCRIPTION:Further Information to follow
URL:https://www.yggllangynwyd.cymru/en/digwyddiad/noson-agored-ol-16/
CATEGORIES:Blwyddyn 11
END:VEVENT
BEGIN:VEVENT
DTSTART;TZID=Europe/London:20241114T153000
DTEND;TZID=Europe/London:20241114T180000
DTSTAMP:20260421T191707
CREATED:20241017T093049Z
LAST-MODIFIED:20241018T090612Z
UID:2901-1731598200-1731607200@www.yggllangynwyd.cymru
SUMMARY:[:cy]Noson Agored ôl 16[:en]Post 16 Open Evening[:]
DESCRIPTION:Date for the diary\nThe Post 16 Open Evening will be held at the school on the 14/11/2024. \n  \nKS5 Op CA5
URL:https://www.yggllangynwyd.cymru/en/digwyddiad/noson-agored-ol-16-2/
CATEGORIES:Blwyddyn 11
END:VEVENT
END:VCALENDAR