BEGIN:VCALENDAR
VERSION:2.0
PRODID:-//Ysgol Gyfun Gymraeg Llangynwyd - ECPv6.8.2.1//NONSGML v1.0//EN
CALSCALE:GREGORIAN
METHOD:PUBLISH
X-ORIGINAL-URL:https://www.yggllangynwyd.cymru
X-WR-CALDESC:Events for Ysgol Gyfun Gymraeg Llangynwyd
REFRESH-INTERVAL;VALUE=DURATION:PT1H
X-Robots-Tag:noindex
X-PUBLISHED-TTL:PT1H
BEGIN:VTIMEZONE
TZID:Europe/London
BEGIN:DAYLIGHT
TZOFFSETFROM:+0000
TZOFFSETTO:+0100
TZNAME:BST
DTSTART:20250330T010000
END:DAYLIGHT
BEGIN:STANDARD
TZOFFSETFROM:+0100
TZOFFSETTO:+0000
TZNAME:GMT
DTSTART:20251026T010000
END:STANDARD
END:VTIMEZONE
BEGIN:VEVENT
DTSTART;TZID=Europe/London:20250130T151500
DTEND;TZID=Europe/London:20250130T173000
DTSTAMP:20260421T125434
CREATED:20241007T104234Z
LAST-MODIFIED:20241007T104234Z
UID:2862-1738250100-1738258200@www.yggllangynwyd.cymru
SUMMARY:[:cy]Noson Rhieni Bl 8 ( Neuadd yr Ysgol)[:en]Year 8 Paretns Evening (School Hall).[:]
DESCRIPTION:Gwybodaeth i ddilyn
URL:https://www.yggllangynwyd.cymru/digwyddiad/noson-rhieni-bl-8-neuadd-yr-ysgol/
CATEGORIES:Blwyddyn 8
END:VEVENT
BEGIN:VEVENT
DTSTART;TZID=Europe/London:20250130T151500
DTEND;TZID=Europe/London:20250130T180000
DTSTAMP:20260421T125434
CREATED:20250124T101706Z
LAST-MODIFIED:20250124T102545Z
UID:3057-1738250100-1738260000@www.yggllangynwyd.cymru
SUMMARY:[:cy]Noson Rhieni Bl 8 30/1/2025[:en]Year 8 Parents' Evening[:]
DESCRIPTION:Noson Rieni Blwyddyn 8 – Year 8 Parents’ Evening
URL:https://www.yggllangynwyd.cymru/digwyddiad/noson-rhieni-bl-8-30-1-2025/
CATEGORIES:Blwyddyn 8
END:VEVENT
END:VCALENDAR