BEGIN:VCALENDAR
VERSION:2.0
PRODID:-//Ysgol Gyfun Gymraeg Llangynwyd - ECPv6.8.2.1//NONSGML v1.0//EN
CALSCALE:GREGORIAN
METHOD:PUBLISH
X-ORIGINAL-URL:https://www.yggllangynwyd.cymru
X-WR-CALDESC:Events for Ysgol Gyfun Gymraeg Llangynwyd
REFRESH-INTERVAL;VALUE=DURATION:PT1H
X-Robots-Tag:noindex
X-PUBLISHED-TTL:PT1H
BEGIN:VTIMEZONE
TZID:Europe/London
BEGIN:DAYLIGHT
TZOFFSETFROM:+0000
TZOFFSETTO:+0100
TZNAME:BST
DTSTART:20220327T010000
END:DAYLIGHT
BEGIN:STANDARD
TZOFFSETFROM:+0100
TZOFFSETTO:+0000
TZNAME:GMT
DTSTART:20221030T010000
END:STANDARD
BEGIN:DAYLIGHT
TZOFFSETFROM:+0000
TZOFFSETTO:+0100
TZNAME:BST
DTSTART:20230326T010000
END:DAYLIGHT
BEGIN:STANDARD
TZOFFSETFROM:+0100
TZOFFSETTO:+0000
TZNAME:GMT
DTSTART:20231029T010000
END:STANDARD
BEGIN:DAYLIGHT
TZOFFSETFROM:+0000
TZOFFSETTO:+0100
TZNAME:BST
DTSTART:20240331T010000
END:DAYLIGHT
BEGIN:STANDARD
TZOFFSETFROM:+0100
TZOFFSETTO:+0000
TZNAME:GMT
DTSTART:20241027T010000
END:STANDARD
BEGIN:DAYLIGHT
TZOFFSETFROM:+0000
TZOFFSETTO:+0100
TZNAME:BST
DTSTART:20250330T010000
END:DAYLIGHT
BEGIN:STANDARD
TZOFFSETFROM:+0100
TZOFFSETTO:+0000
TZNAME:GMT
DTSTART:20251026T010000
END:STANDARD
BEGIN:DAYLIGHT
TZOFFSETFROM:+0000
TZOFFSETTO:+0100
TZNAME:BST
DTSTART:20260329T010000
END:DAYLIGHT
BEGIN:STANDARD
TZOFFSETFROM:+0100
TZOFFSETTO:+0000
TZNAME:GMT
DTSTART:20261025T010000
END:STANDARD
END:VTIMEZONE
BEGIN:VEVENT
DTSTART;TZID=Europe/London:20260326T153000
DTEND;TZID=Europe/London:20260326T190000
DTSTAMP:20260422T140144
CREATED:20250709T123923Z
LAST-MODIFIED:20250709T123923Z
UID:3251-1774539000-1774551600@www.yggllangynwyd.cymru
SUMMARY:[:cy]Noson Rieni Bl 7[:en]Yr 7 Parents' Evening[:]
DESCRIPTION:Rhagor o wybodaeth i ddilyn
URL:https://www.yggllangynwyd.cymru/digwyddiad/noson-rieni-bl-7/
CATEGORIES:Blwyddyn 7
END:VEVENT
BEGIN:VEVENT
DTSTART;VALUE=DATE:20250926
DTEND;VALUE=DATE:20250927
DTSTAMP:20260422T140144
CREATED:20250709T105350Z
LAST-MODIFIED:20250709T105350Z
UID:3201-1758844800-1758931199@www.yggllangynwyd.cymru
SUMMARY:[:cy]Taith Anwytho bl 7[:en]Year 7 Induction Trip[:]
DESCRIPTION:
URL:https://www.yggllangynwyd.cymru/digwyddiad/taith-anwytho-bl-7/
CATEGORIES:Blwyddyn 7
END:VEVENT
BEGIN:VEVENT
DTSTART;VALUE=DATE:20250911
DTEND;VALUE=DATE:20250912
DTSTAMP:20260422T140144
CREATED:20250709T104514Z
LAST-MODIFIED:20250709T104514Z
UID:3193-1757548800-1757635199@www.yggllangynwyd.cymru
SUMMARY:[:cy]Lluniau Bl 7 & 12[:en]Photo Day Years 7 & 12[:]
DESCRIPTION:
URL:https://www.yggllangynwyd.cymru/digwyddiad/lluniau-bl-7-12/
CATEGORIES:Blwyddyn 12/13,Blwyddyn 7
END:VEVENT
BEGIN:VEVENT
DTSTART;VALUE=DATE:20250903
DTEND;VALUE=DATE:20250904
DTSTAMP:20260422T140144
CREATED:20250709T103736Z
LAST-MODIFIED:20250709T103736Z
UID:3181-1756857600-1756943999@www.yggllangynwyd.cymru
SUMMARY:[:cy]Croeso  i 2025-2026[:en]Welcome to 2025-2026[:]
DESCRIPTION:Blynyddoedd 7 – 11 i ddychwelyd heddiw.
URL:https://www.yggllangynwyd.cymru/digwyddiad/croeso-i-2025-2026/
CATEGORIES:Blwyddyn 10,Blwyddyn 11,Blwyddyn 7,Blwyddyn 8,Blwyddyn 9
END:VEVENT
BEGIN:VEVENT
DTSTART;TZID=Europe/London:20250220T151500
DTEND;TZID=Europe/London:20250220T180000
DTSTAMP:20260422T140144
CREATED:20250124T103147Z
LAST-MODIFIED:20250124T103408Z
UID:3059-1740064500-1740074400@www.yggllangynwyd.cymru
SUMMARY:[:cy]Noson Rhieni bl 7[:en]Year 7 Parents' Evening[:]
DESCRIPTION:Nodyn i’r Dyddiadur\nCynhelir Noson Rieni Blwyddyn  7 ar 20/02/2025 rhwng 15:15 – 18:00.\nBydd mwy o fanylion i ddilyn. \n  \nDiolch am eich cefnogaeth barhaus / Thank you for your continued support
URL:https://www.yggllangynwyd.cymru/digwyddiad/noson-rhieni-bl-7/
CATEGORIES:Blwyddyn 7
END:VEVENT
BEGIN:VEVENT
DTSTART;VALUE=DATE:20241220
DTEND;VALUE=DATE:20241221
DTSTAMP:20260422T140144
CREATED:20241211T135445Z
LAST-MODIFIED:20241211T135445Z
UID:3020-1734652800-1734739199@www.yggllangynwyd.cymru
SUMMARY:[:cy]YGGLlan: Diwrnod Siwmper Nadolig 20/12/2024[:en]YGGLlan: Christmas Jumper Day 20/12/2024[:]
DESCRIPTION:
URL:https://www.yggllangynwyd.cymru/digwyddiad/yggllan-diwrnod-siwmper-nadolig-20-12-2024/
LOCATION:Ysgol Gyfun Gymraeg Llangynwyd\, Llangynwyd\, Maesteg\, Bridgend\, CF34 9RW\, United Kingdom
CATEGORIES:Blwyddyn 10,Blwyddyn 11,Blwyddyn 12/13,Blwyddyn 13,Blwyddyn 7,Blwyddyn 8,Blwyddyn 9,Ysgol Gyfan/Whole School
END:VEVENT
BEGIN:VEVENT
DTSTART;TZID=Europe/London:20241025T133000
DTEND;TZID=Europe/London:20241025T150000
DTSTAMP:20260422T140145
CREATED:20241018T084920Z
LAST-MODIFIED:20241018T084920Z
UID:2911-1729863000-1729868400@www.yggllangynwyd.cymru
SUMMARY:[:cy]Disgo Calan Gaeaf[:en]Halloween Disco[:]
DESCRIPTION:  \nAr brynhawn dydd Gwener nesaf (25/10/24) mi fydd blynyddoedd 7\, 8 a 9 yn cael y cyfle i ddathlu diwedd hanner tymor gyda disgo calan gaeaf! \nMi fydd croeso i ddysgwyr wisgo i fyny mewn gwisg ffansi ar gyfer y disgo ble fydd gwobrau ar gyfer y gwisgoedd gorau ar draws y flwyddyn! Mae gofyn iddynt ddod i’r ysgol mewn gwisg ysgol a mi fydd amserlen newid yn cael ei rannu gyda dysgwyr yn ystod yr wythnos. \n  \nRydym ym gofyn i chi dalu £2 ar School Gateway a fydd yn mynd tuag at elusennau yr ysgol. \n  \nMi fydd dysgwyr y chweched dosbarth yn cynnal siop losin i godi arian tuag at eu prom diwedd blwyddyn felly gofynnwn i ddysgwyr dodd â arian parod i mewn i’r ysgol!
URL:https://www.yggllangynwyd.cymru/digwyddiad/disgo-calan-gaeaf/
CATEGORIES:Blwyddyn 7,Blwyddyn 8,Blwyddyn 9
END:VEVENT
BEGIN:VEVENT
DTSTART;TZID=Europe/London:20230928T160000
DTEND;TZID=Europe/London:20230928T180000
DTSTAMP:20260422T140145
CREATED:20230913T113712Z
LAST-MODIFIED:20230913T113712Z
UID:2580-1695916800-1695924000@www.yggllangynwyd.cymru
SUMMARY:[:cy]YGGLlan: Cyflwyniad Bugeiliol Bl 7 28/9/2023[:en]YGGLlan:  Pastoral Presentation Yr 7 28/9/32023[:]
DESCRIPTION:Hoffai’r ysgol eich gwahodd\, fel rhieni a warcheidwyr blwyddyn 7\, i gyflwyniad bugeiliol ar ddydd Iau 28ain o Fedi\, 2023 am 4pm yn yr ysgol. Mi fydd hawl gan ddysgwyr blwyddyn 7 aros yn yr ysgol rhwng 3-4pm dan oruchwyliaeth aelod o staff a dysgwyr chweched dosbarth. Gweler y llythyr atodedig am ragor o wybodaeth. \nCyflwyniad Fugeiliol Bl7 2023 Yr 7 Pastoral Presentation \nDiolch yn fawr iawn am eich cefnogaeth/ thank you very much for your support\, \n  \nMr Owain Tudur \nUwch Arweinydd Lles \nSenior Leader of Well-being \n 
URL:https://www.yggllangynwyd.cymru/digwyddiad/yggllan-cyflwyniad-bugeiliol-bl-7-28-9-2023/
CATEGORIES:Blwyddyn 7
END:VEVENT
BEGIN:VEVENT
DTSTART;TZID=Europe/London:20230719T080000
DTEND;TZID=Europe/London:20230719T160000
DTSTAMP:20260422T140145
CREATED:20230707T123049Z
LAST-MODIFIED:20230707T123055Z
UID:2555-1689753600-1689782400@www.yggllangynwyd.cymru
SUMMARY:[:cy]YGGLlan:  Mabolgampau[:en]YGGLlan:  Sports Day[:]
DESCRIPTION:Mabolgampau’r Ysgol  \n  \nAnnwyl Riant / Warcheidwad\, \n  \nAr Ddydd Mercher 19eg o Orffennaf\, cynhelir Diwrnod Mabolgampau Ysgol Gyfun Gymraeg Llangynwyd yng Nghanolfan Athletau Abertawe. \n  \nBydd y bysiau yn casglu eich plentyn fel arfer ac yn mynd yn syth i’r Stadiwm yn y bore ac yn casglu y disgyblion oddi yno am 2.30pm.  Ni fydd y bysiau yn dychwelyd i’r ysgol ond yn cludo eich plentyn syth adref.  Bydd amser casglu a dychwelyd y disgyblion mor agos a phosibl i ddiwrnod ysgol arferol. Bydd bws yn cludo y disgyblion hynny sydd yn cerdded i’r ysgol a disgyblion o Faesteg sy’n teithio ar fysiau Llynfi yn gadael o safle’r ysgol am 8.30am.  Disgwylir iddynt fod yno yn brydlon\, byddant yn dychwelyd ar gyfer 3.15pm ac yn mynd adref o safle’r ysgol fel arfer.  Ni chaniateir rhieni i wylio’r gystadlaeaeth hon. \n  \nBydd pecyn bwyd ysgol yn cael ei ddarparu i’r rhai sy’n derbyn cinio rhad.  Bydd disgwyl i bob disgybl ddod â phecyn bwyd a digon o ddŵr yn ogystal a eli haul ac i wisgo crys T lliw eu llys\, gwaelodion tracwisg ar gyfer y dydd a siorts du ar gyfer cystadlu. \n  \nGobeithiwn unwaith eto eleni i gael diwrnod mabolgampau hwylus a llwyddiannus\, ble fydd pob dysgwyr yn cyfrannu at lwyddiant eu llysoedd mewn awyrgylch gefnogol a chynhwysol. \n 
URL:https://www.yggllangynwyd.cymru/digwyddiad/yggllan-mabolgampau/
CATEGORIES:Blwyddyn 10,Blwyddyn 7,Blwyddyn 8,Blwyddyn 9
END:VEVENT
BEGIN:VEVENT
DTSTART;TZID=Europe/London:20230330T151500
DTEND;TZID=Europe/London:20230330T181500
DTSTAMP:20260422T140145
CREATED:20230310T141105Z
LAST-MODIFIED:20230316T122024Z
UID:2447-1680189300-1680200100@www.yggllangynwyd.cymru
SUMMARY:[:cy]NOSON RHIENI BLWYDDYN 7 - Wedi ohirio - dyddiad newydd i penodi[:en]YEAR 7 PARENT EVENING - Postponed - new date to be confirmed[:]
DESCRIPTION:Llythr noson rhieni bl 7 2023
URL:https://www.yggllangynwyd.cymru/digwyddiad/noson-rhieni-blwyddyn-7/
CATEGORIES:Blwyddyn 7
END:VEVENT
BEGIN:VEVENT
DTSTART;TZID=Europe/London:20221028T140000
DTEND;TZID=Europe/London:20221028T150000
DTSTAMP:20260422T140145
CREATED:20221026T082613Z
LAST-MODIFIED:20221026T082812Z
UID:2307-1666965600-1666969200@www.yggllangynwyd.cymru
SUMMARY:[:cy]YGGLLAN: Disgo Calan Gaeaf - CA3[:en]YGGLLAN: Halloween Disco - KS3[:]
DESCRIPTION:
URL:https://www.yggllangynwyd.cymru/digwyddiad/yggllan-disgo-calan-gaeaf-ca3/
LOCATION:Ysgol Gyfun Gymraeg Llangynwyd\, Llangynwyd\, Maesteg\, Bridgend\, CF34 9RW\, United Kingdom
CATEGORIES:Blwyddyn 7,Blwyddyn 8,Blwyddyn 9
ATTACH;FMTTYPE=image/png:https://www.yggllangynwyd.cymru/wip/wp-content/uploads/2022/10/Disgo-calan-gaeaf-Llangynwyd-Halloween-Disco.png
ORGANIZER;CN="Elusennau":MAILTO:post@yggllangynwyd.pen-y-bont.cymru
END:VEVENT
BEGIN:VEVENT
DTSTART;VALUE=DATE:20220721
DTEND;VALUE=DATE:20220722
DTSTAMP:20260422T140145
CREATED:20220527T103524Z
LAST-MODIFIED:20220527T103524Z
UID:2210-1658361600-1658447999@www.yggllangynwyd.cymru
SUMMARY:[:cy]YGGLLAN: Teithiau Diwedd Blwyddyn[:en]YGGLLAN: End of Year Trips[:]
DESCRIPTION:Gweler yr atodiad am fanylion y teithiau diwedd blwyddyn. \nLlythyr Taith Diwedd Blwyddyn 2022
URL:https://www.yggllangynwyd.cymru/digwyddiad/yggllan-teithiau-diwedd-blwyddyn/
CATEGORIES:Blwyddyn 10,Blwyddyn 7,Blwyddyn 8,Blwyddyn 9
END:VEVENT
BEGIN:VEVENT
DTSTART;VALUE=DATE:20220325
DTEND;VALUE=DATE:20220326
DTSTAMP:20260422T140145
CREATED:20220321T160656Z
LAST-MODIFIED:20220321T160656Z
UID:2153-1648166400-1648252799@www.yggllangynwyd.cymru
SUMMARY:[:cy]BLWYDDYN 7: DYSGU HIRBELL 25-03-2022[:en]YEAR 7: DISTANCE LEARNING 25-3-2022[:]
DESCRIPTION:Blwyddyn 7 i weithio o adref heddiw. \nGwaith wedi llwytho i Classrooms ar eich cyfer. \nPawb arall i ddod i’r ysgol fel arfer.
URL:https://www.yggllangynwyd.cymru/digwyddiad/blwyddyn-7-dysgu-hirbell-25-03-2022/
CATEGORIES:Blwyddyn 7
END:VEVENT
BEGIN:VEVENT
DTSTART;TZID=Europe/London:20220210T151500
DTEND;TZID=Europe/London:20220210T181500
DTSTAMP:20260422T140145
CREATED:20220127T103325Z
LAST-MODIFIED:20220127T104739Z
UID:2063-1644506100-1644516900@www.yggllangynwyd.cymru
SUMMARY:[:cy]YGGLLAN: Noson Rhieni Blwyddyn 7 10-2-2022[:en]YGGLLAN: Year 7 Parents Evening 10-2-22[:]
DESCRIPTION:Llythyr Noson Rhieni Bl 7 10.2.22 \nCanllawiau Noson Rieni – Parents Evening Guide
URL:https://www.yggllangynwyd.cymru/digwyddiad/yggllan-noson-rhieni-blwyddyn-7-10-2-2022/
CATEGORIES:Blwyddyn 7
END:VEVENT
END:VCALENDAR