BEGIN:VCALENDAR
VERSION:2.0
PRODID:-//Ysgol Gyfun Gymraeg Llangynwyd - ECPv6.8.2.1//NONSGML v1.0//EN
CALSCALE:GREGORIAN
METHOD:PUBLISH
X-ORIGINAL-URL:https://www.yggllangynwyd.cymru
X-WR-CALDESC:Events for Ysgol Gyfun Gymraeg Llangynwyd
REFRESH-INTERVAL;VALUE=DURATION:PT1H
X-Robots-Tag:noindex
X-PUBLISHED-TTL:PT1H
BEGIN:VTIMEZONE
TZID:Europe/London
BEGIN:DAYLIGHT
TZOFFSETFROM:+0000
TZOFFSETTO:+0100
TZNAME:BST
DTSTART:20250330T010000
END:DAYLIGHT
BEGIN:STANDARD
TZOFFSETFROM:+0100
TZOFFSETTO:+0000
TZNAME:GMT
DTSTART:20251026T010000
END:STANDARD
END:VTIMEZONE
BEGIN:VEVENT
DTSTART;TZID=Europe/London:20251201T084000
DTEND;TZID=Europe/London:20251219T150000
DTSTAMP:20260420T153258
CREATED:20250709T112157Z
LAST-MODIFIED:20250709T112157Z
UID:3227-1764578400-1766156400@www.yggllangynwyd.cymru
SUMMARY:[:cy]Ffug Asesiadau Blwyddyn 11[:en]Year 11 Mock Assessments[:]
DESCRIPTION:Rhagor o wybodaeth i ddilyn
URL:https://www.yggllangynwyd.cymru/digwyddiad/ffug-asesiadau-blwyddyn-11/
CATEGORIES:Blwyddyn 11
END:VEVENT
END:VCALENDAR