BEGIN:VCALENDAR
VERSION:2.0
PRODID:-//Ysgol Gyfun Gymraeg Llangynwyd - ECPv6.8.2.1//NONSGML v1.0//EN
CALSCALE:GREGORIAN
METHOD:PUBLISH
X-ORIGINAL-URL:https://www.yggllangynwyd.cymru
X-WR-CALDESC:Events for Ysgol Gyfun Gymraeg Llangynwyd
REFRESH-INTERVAL;VALUE=DURATION:PT1H
X-Robots-Tag:noindex
X-PUBLISHED-TTL:PT1H
BEGIN:VTIMEZONE
TZID:Europe/London
BEGIN:DAYLIGHT
TZOFFSETFROM:+0000
TZOFFSETTO:+0100
TZNAME:BST
DTSTART:20250330T010000
END:DAYLIGHT
BEGIN:STANDARD
TZOFFSETFROM:+0100
TZOFFSETTO:+0000
TZNAME:GMT
DTSTART:20251026T010000
END:STANDARD
END:VTIMEZONE
BEGIN:VEVENT
DTSTART;TZID=Europe/London:20251119T180000
DTEND;TZID=Europe/London:20251119T220000
DTSTAMP:20260420T165728
CREATED:20250709T111811Z
LAST-MODIFIED:20250709T111811Z
UID:3223-1763575200-1763589600@www.yggllangynwyd.cymru
SUMMARY:[:cy]Noson Agoriadol ein Sioe Gerdd[:en]Opening Night of our Musical Theatre Show.[:]
DESCRIPTION:Rhagor o fanylion i ddilyn
URL:https://www.yggllangynwyd.cymru/digwyddiad/noson-agoriadol-ein-sioe-gerdd/
CATEGORIES:Ysgol Gyfan/Whole School
END:VEVENT
END:VCALENDAR