BEGIN:VCALENDAR
VERSION:2.0
PRODID:-//Ysgol Gyfun Gymraeg Llangynwyd - ECPv6.8.2.1//NONSGML v1.0//EN
CALSCALE:GREGORIAN
METHOD:PUBLISH
X-WR-CALNAME:Ysgol Gyfun Gymraeg Llangynwyd
X-ORIGINAL-URL:https://www.yggllangynwyd.cymru
X-WR-CALDESC:Events for Ysgol Gyfun Gymraeg Llangynwyd
REFRESH-INTERVAL;VALUE=DURATION:PT1H
X-Robots-Tag:noindex
X-PUBLISHED-TTL:PT1H
BEGIN:VTIMEZONE
TZID:Europe/London
BEGIN:DAYLIGHT
TZOFFSETFROM:+0000
TZOFFSETTO:+0100
TZNAME:BST
DTSTART:20250330T010000
END:DAYLIGHT
BEGIN:STANDARD
TZOFFSETFROM:+0100
TZOFFSETTO:+0000
TZNAME:GMT
DTSTART:20251026T010000
END:STANDARD
END:VTIMEZONE
BEGIN:VEVENT
DTSTART;TZID=Europe/London:20251007T153000
DTEND;TZID=Europe/London:20251007T190000
DTSTAMP:20260420T192036
CREATED:20250709T110300Z
LAST-MODIFIED:20250709T110300Z
UID:3211-1759851000-1759863600@www.yggllangynwyd.cymru
SUMMARY:[:cy]Noson Agored CA5[:en]KS5 Open Evening[:]
DESCRIPTION:
URL:https://www.yggllangynwyd.cymru/digwyddiad/noson-agored-ca5-3/
CATEGORIES:Blwyddyn 12/13,Blwyddyn 13
END:VEVENT
END:VCALENDAR