BEGIN:VCALENDAR
VERSION:2.0
PRODID:-//Ysgol Gyfun Gymraeg Llangynwyd - ECPv6.8.2.1//NONSGML v1.0//EN
CALSCALE:GREGORIAN
METHOD:PUBLISH
X-WR-CALNAME:Ysgol Gyfun Gymraeg Llangynwyd
X-ORIGINAL-URL:https://www.yggllangynwyd.cymru
X-WR-CALDESC:Events for Ysgol Gyfun Gymraeg Llangynwyd
REFRESH-INTERVAL;VALUE=DURATION:PT1H
X-Robots-Tag:noindex
X-PUBLISHED-TTL:PT1H
BEGIN:VTIMEZONE
TZID:Europe/London
BEGIN:DAYLIGHT
TZOFFSETFROM:+0000
TZOFFSETTO:+0100
TZNAME:BST
DTSTART:20250330T010000
END:DAYLIGHT
BEGIN:STANDARD
TZOFFSETFROM:+0100
TZOFFSETTO:+0000
TZNAME:GMT
DTSTART:20251026T010000
END:STANDARD
END:VTIMEZONE
BEGIN:VEVENT
DTSTART;VALUE=DATE:20250924
DTEND;VALUE=DATE:20250927
DTSTAMP:20260420T200903
CREATED:20250709T105119Z
LAST-MODIFIED:20250709T105907Z
UID:3197-1758672000-1758931199@www.yggllangynwyd.cymru
SUMMARY:[:cy]Taith Glanllyn[:en]Glanllyn Trip[:]
DESCRIPTION:
URL:https://www.yggllangynwyd.cymru/digwyddiad/taith-glanllyn-2/
CATEGORIES:Blwyddyn 9
END:VEVENT
BEGIN:VEVENT
DTSTART;VALUE=DATE:20250926
DTEND;VALUE=DATE:20250927
DTSTAMP:20260420T200903
CREATED:20250709T105350Z
LAST-MODIFIED:20250709T105350Z
UID:3201-1758844800-1758931199@www.yggllangynwyd.cymru
SUMMARY:[:cy]Taith Anwytho bl 7[:en]Year 7 Induction Trip[:]
DESCRIPTION:
URL:https://www.yggllangynwyd.cymru/digwyddiad/taith-anwytho-bl-7/
CATEGORIES:Blwyddyn 7
END:VEVENT
END:VCALENDAR