BEGIN:VCALENDAR
VERSION:2.0
PRODID:-//Ysgol Gyfun Gymraeg Llangynwyd - ECPv6.8.2.1//NONSGML v1.0//EN
CALSCALE:GREGORIAN
METHOD:PUBLISH
X-WR-CALNAME:Ysgol Gyfun Gymraeg Llangynwyd
X-ORIGINAL-URL:https://www.yggllangynwyd.cymru
X-WR-CALDESC:Events for Ysgol Gyfun Gymraeg Llangynwyd
REFRESH-INTERVAL;VALUE=DURATION:PT1H
X-Robots-Tag:noindex
X-PUBLISHED-TTL:PT1H
BEGIN:VTIMEZONE
TZID:Europe/London
BEGIN:DAYLIGHT
TZOFFSETFROM:+0000
TZOFFSETTO:+0100
TZNAME:BST
DTSTART:20250330T010000
END:DAYLIGHT
BEGIN:STANDARD
TZOFFSETFROM:+0100
TZOFFSETTO:+0000
TZNAME:GMT
DTSTART:20251026T010000
END:STANDARD
END:VTIMEZONE
BEGIN:VEVENT
DTSTART;TZID=Europe/London:20250116T160000
DTEND;TZID=Europe/London:20250116T180000
DTSTAMP:20260421T173418
CREATED:20241007T104021Z
LAST-MODIFIED:20241208T193038Z
UID:2860-1737043200-1737050400@www.yggllangynwyd.cymru
SUMMARY:[:cy]Noson Agored CA4 (Ysgol)[:en]KS4 Open Evening (School)[:]
DESCRIPTION:Rhagor o wybodaeth i ddilyn
URL:https://www.yggllangynwyd.cymru/digwyddiad/noson-agored-ca4-ysgol/
CATEGORIES:Blwyddyn 9
END:VEVENT
BEGIN:VEVENT
DTSTART;TZID=Europe/London:20250116T160000
DTEND;TZID=Europe/London:20250116T180000
DTSTAMP:20260421T173418
CREATED:20241217T091748Z
LAST-MODIFIED:20241217T091748Z
UID:3025-1737043200-1737050400@www.yggllangynwyd.cymru
SUMMARY:[:cy]YGGLLAN:  Noson Agored CA4 16/01/2025[:en]YGGLLAN:  Key Stage 4 Open Evening 16/1/2025[:]
DESCRIPTION:Gweler wybodaeth pellach yma : Noson Agored CA4
URL:https://www.yggllangynwyd.cymru/digwyddiad/yggllan-noson-agored-ca4-16-01-2025/
LOCATION:Ysgol Gyfun Gymraeg Llangynwyd\, Llangynwyd\, Maesteg\, Bridgend\, CF34 9RW\, United Kingdom
CATEGORIES:Blwyddyn 9
END:VEVENT
END:VCALENDAR